BEGIN:VCALENDAR
VERSION:2.0
PRODID:-//Horizon Convention Center - ECPv6.15.20//NONSGML v1.0//EN
CALSCALE:GREGORIAN
METHOD:PUBLISH
X-WR-CALNAME:Horizon Convention Center
X-ORIGINAL-URL:https://www.horizonconvention.com
X-WR-CALDESC:Events for Horizon Convention Center
REFRESH-INTERVAL;VALUE=DURATION:PT1H
X-Robots-Tag:noindex
X-PUBLISHED-TTL:PT1H
BEGIN:VTIMEZONE
TZID:America/Indiana/Indianapolis
BEGIN:DAYLIGHT
TZOFFSETFROM:-0500
TZOFFSETTO:-0400
TZNAME:EDT
DTSTART:20220313T070000
END:DAYLIGHT
BEGIN:STANDARD
TZOFFSETFROM:-0400
TZOFFSETTO:-0500
TZNAME:EST
DTSTART:20221106T060000
END:STANDARD
BEGIN:DAYLIGHT
TZOFFSETFROM:-0500
TZOFFSETTO:-0400
TZNAME:EDT
DTSTART:20230312T070000
END:DAYLIGHT
BEGIN:STANDARD
TZOFFSETFROM:-0400
TZOFFSETTO:-0500
TZNAME:EST
DTSTART:20231105T060000
END:STANDARD
BEGIN:DAYLIGHT
TZOFFSETFROM:-0500
TZOFFSETTO:-0400
TZNAME:EDT
DTSTART:20240310T070000
END:DAYLIGHT
BEGIN:STANDARD
TZOFFSETFROM:-0400
TZOFFSETTO:-0500
TZNAME:EST
DTSTART:20241103T060000
END:STANDARD
END:VTIMEZONE
BEGIN:VEVENT
DTSTART;TZID=America/Indiana/Indianapolis:20231115T093000
DTEND;TZID=America/Indiana/Indianapolis:20231115T133000
DTSTAMP:20260422T061107
CREATED:20231030T192246Z
LAST-MODIFIED:20231030T192246Z
UID:10003111-1700040600-1700055000@www.horizonconvention.com
SUMMARY:WIBU Athena Luncheon
DESCRIPTION:
URL:https://www.horizonconvention.com/event/wibu-athena-luncheon-2/
END:VEVENT
BEGIN:VEVENT
DTSTART;TZID=America/Indiana/Indianapolis:20231114T073000
DTEND;TZID=America/Indiana/Indianapolis:20231114T093000
DTSTAMP:20260422T061107
CREATED:20231030T191956Z
LAST-MODIFIED:20231030T191956Z
UID:10003110-1699947000-1699954200@www.horizonconvention.com
SUMMARY:Vision 2027 Investor Breakfast
DESCRIPTION:
URL:https://www.horizonconvention.com/event/vision-2027-investor-breakfast/
END:VEVENT
BEGIN:VEVENT
DTSTART;TZID=America/Indiana/Indianapolis:20231112T090000
DTEND;TZID=America/Indiana/Indianapolis:20231112T160000
DTSTAMP:20260422T061107
CREATED:20231030T191655Z
LAST-MODIFIED:20231030T191655Z
UID:10003109-1699779600-1699804800@www.horizonconvention.com
SUMMARY:Alpha Phi Red Dress Gala
DESCRIPTION:
URL:https://www.horizonconvention.com/event/alpha-phi-red-dress-gala/
END:VEVENT
BEGIN:VEVENT
DTSTART;TZID=America/Indiana/Indianapolis:20231110T080000
DTEND;TZID=America/Indiana/Indianapolis:20231110T150000
DTSTAMP:20260422T061107
CREATED:20231110T140046Z
LAST-MODIFIED:20231110T140046Z
UID:10003124-1699603200-1699628400@www.horizonconvention.com
SUMMARY:Arc Awards Luncheon
DESCRIPTION:
URL:https://www.horizonconvention.com/event/arc-awards-luncheon/
END:VEVENT
BEGIN:VEVENT
DTSTART;TZID=America/Indiana/Indianapolis:20231109T070000
DTEND;TZID=America/Indiana/Indianapolis:20231109T133000
DTSTAMP:20260422T061107
CREATED:20231030T182105Z
LAST-MODIFIED:20231030T182105Z
UID:10003108-1699513200-1699536600@www.horizonconvention.com
SUMMARY:Muncie Speaker Series
DESCRIPTION:
URL:https://www.horizonconvention.com/event/muncie-speaker-series/
END:VEVENT
BEGIN:VEVENT
DTSTART;TZID=America/Indiana/Indianapolis:20231109T070000
DTEND;TZID=America/Indiana/Indianapolis:20231109T110000
DTSTAMP:20260422T061107
CREATED:20231030T181334Z
LAST-MODIFIED:20231030T181334Z
UID:10003107-1699513200-1699527600@www.horizonconvention.com
SUMMARY:ACL Graduation
DESCRIPTION:
URL:https://www.horizonconvention.com/event/acl-graduation-2/
END:VEVENT
BEGIN:VEVENT
DTSTART;TZID=America/Indiana/Indianapolis:20231104T060000
DTEND;TZID=America/Indiana/Indianapolis:20231104T230000
DTSTAMP:20260422T061107
CREATED:20231030T181114Z
LAST-MODIFIED:20231030T181114Z
UID:10003106-1699077600-1699138800@www.horizonconvention.com
SUMMARY:G.R.O.W. Conference & Trade Show
DESCRIPTION:
URL:https://www.horizonconvention.com/event/g-r-o-w-conference-trade-show/
END:VEVENT
BEGIN:VEVENT
DTSTART;TZID=America/Indiana/Indianapolis:20231102T074500
DTEND;TZID=America/Indiana/Indianapolis:20231103T235900
DTSTAMP:20260422T061107
CREATED:20231030T180705Z
LAST-MODIFIED:20231030T180705Z
UID:10003105-1698911100-1699055940@www.horizonconvention.com
SUMMARY:IABC Annual Conference
DESCRIPTION:
URL:https://www.horizonconvention.com/event/iabc-annual-conference/
END:VEVENT
BEGIN:VEVENT
DTSTART;TZID=America/Indiana/Indianapolis:20231028T180000
DTEND;TZID=America/Indiana/Indianapolis:20231028T233000
DTSTAMP:20260422T061107
CREATED:20230824T151056Z
LAST-MODIFIED:20230824T151056Z
UID:10003104-1698516000-1698535800@www.horizonconvention.com
SUMMARY:GRAND WORTHY MATRON GALA BANQUET
DESCRIPTION:
URL:https://www.horizonconvention.com/event/grand-worthy-matron-gala-banquet/
END:VEVENT
BEGIN:VEVENT
DTSTART;TZID=America/Indiana/Indianapolis:20231026T173000
DTEND;TZID=America/Indiana/Indianapolis:20231026T200000
DTSTAMP:20260422T061107
CREATED:20230824T150851Z
LAST-MODIFIED:20230824T150851Z
UID:10003103-1698341400-1698350400@www.horizonconvention.com
SUMMARY:CHAMBER ANNUAL MEETING
DESCRIPTION:
URL:https://www.horizonconvention.com/event/chamber-annual-meeting-5/
END:VEVENT
BEGIN:VEVENT
DTSTART;TZID=America/Indiana/Indianapolis:20231025T070000
DTEND;TZID=America/Indiana/Indianapolis:20231025T235900
DTSTAMP:20260422T061107
CREATED:20230824T150559Z
LAST-MODIFIED:20230824T150559Z
UID:10003102-1698217200-1698278340@www.horizonconvention.com
SUMMARY:IN-WBA SYMPOSIUM
DESCRIPTION:
URL:https://www.horizonconvention.com/event/in-wba-symposium/
END:VEVENT
BEGIN:VEVENT
DTSTART;VALUE=DATE:20231025
DTEND;VALUE=DATE:20231026
DTSTAMP:20260422T061107
CREATED:20230824T150721Z
LAST-MODIFIED:20230824T150721Z
UID:10003101-1698192000-1698278399@www.horizonconvention.com
SUMMARY:NON PROFIT SUMMIT
DESCRIPTION:
URL:https://www.horizonconvention.com/event/non-profit-summit/
END:VEVENT
BEGIN:VEVENT
DTSTART;TZID=America/Indiana/Indianapolis:20231024T180000
DTEND;TZID=America/Indiana/Indianapolis:20231024T210000
DTSTAMP:20260422T061107
CREATED:20230824T150220Z
LAST-MODIFIED:20230824T150220Z
UID:10003099-1698170400-1698181200@www.horizonconvention.com
SUMMARY:FIRST CHOICE FOR WOMEN BANQUET
DESCRIPTION:
URL:https://www.horizonconvention.com/event/first-choice-for-women-banquet/
END:VEVENT
BEGIN:VEVENT
DTSTART;VALUE=DATE:20231021
DTEND;VALUE=DATE:20231022
DTSTAMP:20260422T061107
CREATED:20230824T150026Z
LAST-MODIFIED:20230824T150026Z
UID:10002889-1697846400-1697932799@www.horizonconvention.com
SUMMARY:DELTA IOTA 70th ANNIVERSARY
DESCRIPTION:
URL:https://www.horizonconvention.com/event/delta-iota-70th-anniversary/
END:VEVENT
BEGIN:VEVENT
DTSTART;TZID=America/Indiana/Indianapolis:20231019T113000
DTEND;TZID=America/Indiana/Indianapolis:20231019T130000
DTSTAMP:20260422T061107
CREATED:20230824T145753Z
LAST-MODIFIED:20230824T145753Z
UID:10002887-1697715000-1697720400@www.horizonconvention.com
SUMMARY:PUT YOURSELF IN HER HEELS LUNCHEON
DESCRIPTION:
URL:https://www.horizonconvention.com/event/put-yourself-in-her-heels-luncheon/
END:VEVENT
BEGIN:VEVENT
DTSTART;TZID=America/Indiana/Indianapolis:20231017T080000
DTEND;TZID=America/Indiana/Indianapolis:20231018T235900
DTSTAMP:20260422T061107
CREATED:20230824T141917Z
LAST-MODIFIED:20230824T141917Z
UID:10002885-1697529600-1697673540@www.horizonconvention.com
SUMMARY:GMIS INDIANA ANNUAL IT CONFERENCE
DESCRIPTION:
URL:https://www.horizonconvention.com/event/gmis-indiana-annual-it-conference/
END:VEVENT
BEGIN:VEVENT
DTSTART;TZID=America/Indiana/Indianapolis:20231014T070000
DTEND;TZID=America/Indiana/Indianapolis:20231014T220000
DTSTAMP:20260422T061107
CREATED:20230823T174342Z
LAST-MODIFIED:20230823T174342Z
UID:10002883-1697266800-1697320800@www.horizonconvention.com
SUMMARY:PHI BETA PSI2023 ANNUAL STATE CONFERENCE
DESCRIPTION:
URL:https://www.horizonconvention.com/event/phi-beta-psi2023-annual-state-conference/
END:VEVENT
BEGIN:VEVENT
DTSTART;TZID=America/Indiana/Indianapolis:20231010T180000
DTEND;TZID=America/Indiana/Indianapolis:20231010T235900
DTSTAMP:20260422T061107
CREATED:20230823T174014Z
LAST-MODIFIED:20230823T174014Z
UID:10002881-1696960800-1696982340@www.horizonconvention.com
SUMMARY:SECOND HARVEST 40TH ANNIVERSARY DINNER
DESCRIPTION:
URL:https://www.horizonconvention.com/event/second-harvest-40th-anniversary-dinner/
END:VEVENT
BEGIN:VEVENT
DTSTART;TZID=America/Indiana/Indianapolis:20231007T080000
DTEND;TZID=America/Indiana/Indianapolis:20231007T235900
DTSTAMP:20260422T061107
CREATED:20230823T173730Z
LAST-MODIFIED:20230823T173730Z
UID:10002879-1696665600-1696723140@www.horizonconvention.com
SUMMARY:CARTER EXPRESS EMPLOYEE EVENT
DESCRIPTION:
URL:https://www.horizonconvention.com/event/carter-express-employee-event/
END:VEVENT
BEGIN:VEVENT
DTSTART;TZID=America/Indiana/Indianapolis:20231004T060000
DTEND;TZID=America/Indiana/Indianapolis:20231004T090000
DTSTAMP:20260422T061107
CREATED:20230823T173459Z
LAST-MODIFIED:20230823T173537Z
UID:10002877-1696399200-1696410000@www.horizonconvention.com
SUMMARY:MUNCIE ON THE MOVE
DESCRIPTION:
URL:https://www.horizonconvention.com/event/muncie-on-the-move-25/
END:VEVENT
BEGIN:VEVENT
DTSTART;TZID=America/Indiana/Indianapolis:20230928T080000
DTEND;TZID=America/Indiana/Indianapolis:20230929T235900
DTSTAMP:20260422T061107
CREATED:20230823T173222Z
LAST-MODIFIED:20230823T173222Z
UID:10002875-1695888000-1696031940@www.horizonconvention.com
SUMMARY:IRONMAN 70.3 MUNCIE
DESCRIPTION:
URL:https://www.horizonconvention.com/event/ironman-70-3-muncie-2/
END:VEVENT
BEGIN:VEVENT
DTSTART;TZID=America/Indiana/Indianapolis:20230925T070000
DTEND;TZID=America/Indiana/Indianapolis:20230927T235900
DTSTAMP:20260422T061107
CREATED:20230823T172938Z
LAST-MODIFIED:20230823T172938Z
UID:10002873-1695625200-1695859140@www.horizonconvention.com
SUMMARY:INDIANA ENVIRONMENTAL HEALTH ASSOCIATION 2023 ANNUAL FALL CONFERENCE
DESCRIPTION:
URL:https://www.horizonconvention.com/event/indiana-environmental-health-association-2023-annual-fall-conference/
END:VEVENT
BEGIN:VEVENT
DTSTART;TZID=America/Indiana/Indianapolis:20230923T180000
DTEND;TZID=America/Indiana/Indianapolis:20230923T220000
DTSTAMP:20260422T061107
CREATED:20230823T172053Z
LAST-MODIFIED:20230823T172053Z
UID:10002871-1695492000-1695506400@www.horizonconvention.com
SUMMARY:A TASTE OF CICS
DESCRIPTION:
URL:https://www.horizonconvention.com/event/a-taste-of-cics/
END:VEVENT
BEGIN:VEVENT
DTSTART;TZID=America/Indiana/Indianapolis:20230921T080000
DTEND;TZID=America/Indiana/Indianapolis:20230921T150000
DTSTAMP:20260422T061107
CREATED:20230823T171254Z
LAST-MODIFIED:20230823T171254Z
UID:10003100-1695283200-1695308400@www.horizonconvention.com
SUMMARY:IFBLA ADVISOR TRAINING
DESCRIPTION:
URL:https://www.horizonconvention.com/event/ifbla-advisor-training/
END:VEVENT
BEGIN:VEVENT
DTSTART;TZID=America/Indiana/Indianapolis:20230919T080000
DTEND;TZID=America/Indiana/Indianapolis:20230920T150000
DTSTAMP:20260422T061107
CREATED:20230823T171037Z
LAST-MODIFIED:20230823T171131Z
UID:10003098-1695110400-1695222000@www.horizonconvention.com
SUMMARY:4h State Youth Staff Conference
DESCRIPTION:
URL:https://www.horizonconvention.com/event/4h-state-youth-staff-conference/
END:VEVENT
BEGIN:VEVENT
DTSTART;TZID=America/Indiana/Indianapolis:20230914T160000
DTEND;TZID=America/Indiana/Indianapolis:20230914T220000
DTSTAMP:20260422T061107
CREATED:20230823T170801Z
LAST-MODIFIED:20230823T174636Z
UID:10003097-1694707200-1694728800@www.horizonconvention.com
SUMMARY:Christian Ministries of Delaware County
DESCRIPTION:
URL:https://www.horizonconvention.com/event/christian-ministries-of-delaware-county/
END:VEVENT
BEGIN:VEVENT
DTSTART;TZID=America/Indiana/Indianapolis:20230912T170000
DTEND;TZID=America/Indiana/Indianapolis:20230914T140000
DTSTAMP:20260422T061107
CREATED:20230823T144912Z
LAST-MODIFIED:20230823T170055Z
UID:10003096-1694538000-1694700000@www.horizonconvention.com
SUMMARY:Four Star Veterinary Service\, LLC 2023 Annual Conference
DESCRIPTION:
URL:https://www.horizonconvention.com/event/four-star-veterinary-service-llc-2023-annual-conference/
END:VEVENT
BEGIN:VEVENT
DTSTART;VALUE=DATE:20230909
DTEND;VALUE=DATE:20230910
DTSTAMP:20260422T061107
CREATED:20230810T144658Z
LAST-MODIFIED:20230810T144658Z
UID:10003095-1694217600-1694303999@www.horizonconvention.com
SUMMARY:Private Affair
DESCRIPTION:
URL:https://www.horizonconvention.com/event/private-affair-2/
END:VEVENT
BEGIN:VEVENT
DTSTART;VALUE=DATE:20230904
DTEND;VALUE=DATE:20230905
DTSTAMP:20260422T061107
CREATED:20230810T144242Z
LAST-MODIFIED:20230810T144242Z
UID:10003094-1693785600-1693871999@www.horizonconvention.com
SUMMARY:Labor Day Building Closed
DESCRIPTION:
URL:https://www.horizonconvention.com/event/labor-day-building-closed/
END:VEVENT
BEGIN:VEVENT
DTSTART;TZID=America/Indiana/Indianapolis:20230902T170000
DTEND;TZID=America/Indiana/Indianapolis:20230902T230000
DTSTAMP:20260422T061107
CREATED:20230810T144427Z
LAST-MODIFIED:20230810T144427Z
UID:10003093-1693674000-1693695600@www.horizonconvention.com
SUMMARY:Private Affair
DESCRIPTION:
URL:https://www.horizonconvention.com/event/private-affair/
END:VEVENT
END:VCALENDAR