BEGIN:VCALENDAR
VERSION:2.0
PRODID:-//Horizon Convention Center - ECPv6.15.20//NONSGML v1.0//EN
CALSCALE:GREGORIAN
METHOD:PUBLISH
X-ORIGINAL-URL:https://www.horizonconvention.com
X-WR-CALDESC:Events for Horizon Convention Center
REFRESH-INTERVAL;VALUE=DURATION:PT1H
X-Robots-Tag:noindex
X-PUBLISHED-TTL:PT1H
BEGIN:VTIMEZONE
TZID:America/Indiana/Indianapolis
BEGIN:DAYLIGHT
TZOFFSETFROM:-0500
TZOFFSETTO:-0400
TZNAME:EDT
DTSTART:20230312T070000
END:DAYLIGHT
BEGIN:STANDARD
TZOFFSETFROM:-0400
TZOFFSETTO:-0500
TZNAME:EST
DTSTART:20231105T060000
END:STANDARD
BEGIN:DAYLIGHT
TZOFFSETFROM:-0500
TZOFFSETTO:-0400
TZNAME:EDT
DTSTART:20240310T070000
END:DAYLIGHT
BEGIN:STANDARD
TZOFFSETFROM:-0400
TZOFFSETTO:-0500
TZNAME:EST
DTSTART:20241103T060000
END:STANDARD
BEGIN:DAYLIGHT
TZOFFSETFROM:-0500
TZOFFSETTO:-0400
TZNAME:EDT
DTSTART:20250309T070000
END:DAYLIGHT
BEGIN:STANDARD
TZOFFSETFROM:-0400
TZOFFSETTO:-0500
TZNAME:EST
DTSTART:20251102T060000
END:STANDARD
BEGIN:DAYLIGHT
TZOFFSETFROM:-0500
TZOFFSETTO:-0400
TZNAME:EDT
DTSTART:20260308T070000
END:DAYLIGHT
BEGIN:STANDARD
TZOFFSETFROM:-0400
TZOFFSETTO:-0500
TZNAME:EST
DTSTART:20261101T060000
END:STANDARD
END:VTIMEZONE
BEGIN:VEVENT
DTSTART;TZID=America/Indiana/Indianapolis:20250129T000000
DTEND;TZID=America/Indiana/Indianapolis:20250130T000000
DTSTAMP:20260419T094736
CREATED:20240430T155326Z
LAST-MODIFIED:20240430T155326Z
UID:10003180-1738108800-1738195200@www.horizonconvention.com
SUMMARY:Indiana Reading/ELA Caravan
DESCRIPTION:
URL:https://www.horizonconvention.com/event/indiana-reading-ela-caravan/
END:VEVENT
BEGIN:VEVENT
DTSTART;TZID=America/Indiana/Indianapolis:20250120T000000
DTEND;TZID=America/Indiana/Indianapolis:20250123T000000
DTSTAMP:20260419T094736
CREATED:20240430T155241Z
LAST-MODIFIED:20240430T155241Z
UID:10003169-1737331200-1737590400@www.horizonconvention.com
SUMMARY:NRCA 2025 Annual Weed Control Training Seminar
DESCRIPTION:
URL:https://www.horizonconvention.com/event/nrca-2025-annual-weed-control-training-seminar/
END:VEVENT
BEGIN:VEVENT
DTSTART;TZID=America/Indiana/Indianapolis:20250118T000000
DTEND;TZID=America/Indiana/Indianapolis:20250118T000000
DTSTAMP:20260419T094736
CREATED:20240430T155326Z
LAST-MODIFIED:20240430T155326Z
UID:10003179-1737158400-1737158400@www.horizonconvention.com
SUMMARY:Midwest Fruit Jar Collectors Tradeshow
DESCRIPTION:
URL:https://www.horizonconvention.com/event/midwest-fruit-jar-collectors-tradeshow-5/
END:VEVENT
BEGIN:VEVENT
DTSTART;TZID=America/Indiana/Indianapolis:20241214T000000
DTEND;TZID=America/Indiana/Indianapolis:20241214T000000
DTSTAMP:20260419T094736
CREATED:20240430T155440Z
LAST-MODIFIED:20240430T155440Z
UID:10003187-1734134400-1734134400@www.horizonconvention.com
SUMMARY:Magna Powertrain Holiday Party
DESCRIPTION:
URL:https://www.horizonconvention.com/event/magna-powertrain-holiday-party-4/
END:VEVENT
BEGIN:VEVENT
DTSTART;TZID=America/Indiana/Indianapolis:20241210T000000
DTEND;TZID=America/Indiana/Indianapolis:20241213T000000
DTSTAMP:20260419T094736
CREATED:20240430T155441Z
LAST-MODIFIED:20240430T155441Z
UID:10003188-1733788800-1734048000@www.horizonconvention.com
SUMMARY:APAI Winter Conference and Expo
DESCRIPTION:
URL:https://www.horizonconvention.com/event/apai-winter-conference-and-expo-2/
END:VEVENT
BEGIN:VEVENT
DTSTART;TZID=America/Indiana/Indianapolis:20241207T000000
DTEND;TZID=America/Indiana/Indianapolis:20241207T000000
DTSTAMP:20260419T094736
CREATED:20240430T155426Z
LAST-MODIFIED:20240430T155426Z
UID:10003185-1733529600-1733529600@www.horizonconvention.com
SUMMARY:Talon Ball
DESCRIPTION:
URL:https://www.horizonconvention.com/event/talon-ball-3/
END:VEVENT
BEGIN:VEVENT
DTSTART;TZID=America/Indiana/Indianapolis:20241204T000000
DTEND;TZID=America/Indiana/Indianapolis:20241204T000000
DTSTAMP:20260419T094736
CREATED:20240430T155357Z
LAST-MODIFIED:20240430T155357Z
UID:10002955-1733270400-1733270400@www.horizonconvention.com
SUMMARY:Muncie On The Move
DESCRIPTION:
URL:https://www.horizonconvention.com/event/muncie-on-the-move-31/
END:VEVENT
BEGIN:VEVENT
DTSTART;TZID=America/Indiana/Indianapolis:20241120T000000
DTEND;TZID=America/Indiana/Indianapolis:20241120T000000
DTSTAMP:20260419T094736
CREATED:20240430T155426Z
LAST-MODIFIED:20240430T155426Z
UID:10003184-1732060800-1732060800@www.horizonconvention.com
SUMMARY:WIBU Athena Luncheon
DESCRIPTION:
URL:https://www.horizonconvention.com/event/wibu-athena-luncheon-3/
END:VEVENT
BEGIN:VEVENT
DTSTART;TZID=America/Indiana/Indianapolis:20241118T000000
DTEND;TZID=America/Indiana/Indianapolis:20241121T000000
DTSTAMP:20260419T094736
CREATED:20240430T155713Z
LAST-MODIFIED:20240430T155713Z
UID:10003199-1731888000-1732147200@www.horizonconvention.com
SUMMARY:Indiana Association of Inspectors of Weights & Measures Annual Conference
DESCRIPTION:
URL:https://www.horizonconvention.com/event/indiana-association-of-inspectors-of-weights-measures-annual-conference/
END:VEVENT
BEGIN:VEVENT
DTSTART;TZID=America/Indiana/Indianapolis:20241108T000000
DTEND;TZID=America/Indiana/Indianapolis:20241108T000000
DTSTAMP:20260419T094736
CREATED:20240430T155411Z
LAST-MODIFIED:20241101T150723Z
UID:10003182-1731024000-1731024000@www.horizonconvention.com
SUMMARY:2024 State Volleyball Banquet
DESCRIPTION:
URL:https://www.horizonconvention.com/event/2024-state-volleyball-banquet/
END:VEVENT
BEGIN:VEVENT
DTSTART;TZID=America/Indiana/Indianapolis:20241106T000000
DTEND;TZID=America/Indiana/Indianapolis:20241106T000000
DTSTAMP:20260419T094736
CREATED:20240430T155713Z
LAST-MODIFIED:20240430T155713Z
UID:10003200-1730851200-1730851200@www.horizonconvention.com
SUMMARY:Open Door 50th Anniversary Celebration
DESCRIPTION:
URL:https://www.horizonconvention.com/event/open-door-50th-anniversary-celebration/
END:VEVENT
BEGIN:VEVENT
DTSTART;TZID=America/Indiana/Indianapolis:20241101T000000
DTEND;TZID=America/Indiana/Indianapolis:20241102T000000
DTSTAMP:20260419T094736
CREATED:20240430T155326Z
LAST-MODIFIED:20240430T155326Z
UID:10003178-1730419200-1730505600@www.horizonconvention.com
SUMMARY:Delta Theta Tau Combine Conference
DESCRIPTION:
URL:https://www.horizonconvention.com/event/delta-theta-tau-combine-conference-5/
END:VEVENT
BEGIN:VEVENT
DTSTART;TZID=America/Indiana/Indianapolis:20241024T000000
DTEND;TZID=America/Indiana/Indianapolis:20241025T000000
DTSTAMP:20260419T094736
CREATED:20240430T155341Z
LAST-MODIFIED:20240430T155341Z
UID:10002952-1729728000-1729814400@www.horizonconvention.com
SUMMARY:IN Association of Behavioral Consultants Annual Conference
DESCRIPTION:
URL:https://www.horizonconvention.com/event/in-association-of-behavioral-consultants-annual-conference-3/
END:VEVENT
BEGIN:VEVENT
DTSTART;TZID=America/Indiana/Indianapolis:20241017T000000
DTEND;TZID=America/Indiana/Indianapolis:20241017T000000
DTSTAMP:20260419T094736
CREATED:20240430T155221Z
LAST-MODIFIED:20240430T155221Z
UID:10003158-1729123200-1729123200@www.horizonconvention.com
SUMMARY:Chamber Annual Meeting
DESCRIPTION:
URL:https://www.horizonconvention.com/event/chamber-annual-meeting-6/
END:VEVENT
BEGIN:VEVENT
DTSTART;TZID=America/Indiana/Indianapolis:20241002T000000
DTEND;TZID=America/Indiana/Indianapolis:20241002T000000
DTSTAMP:20260419T094736
CREATED:20240430T155341Z
LAST-MODIFIED:20240430T155341Z
UID:10002954-1727827200-1727827200@www.horizonconvention.com
SUMMARY:Muncie On The Move
DESCRIPTION:
URL:https://www.horizonconvention.com/event/muncie-on-the-move-30/
END:VEVENT
BEGIN:VEVENT
DTSTART;TZID=America/Indiana/Indianapolis:20241002T000000
DTEND;TZID=America/Indiana/Indianapolis:20241002T000000
DTSTAMP:20260419T094736
CREATED:20240430T155226Z
LAST-MODIFIED:20240430T155226Z
UID:10003166-1727827200-1727827200@www.horizonconvention.com
SUMMARY:First Merchants Summit
DESCRIPTION:
URL:https://www.horizonconvention.com/event/first-merchants-summit/
END:VEVENT
BEGIN:VEVENT
DTSTART;TZID=America/Indiana/Indianapolis:20241001T000000
DTEND;TZID=America/Indiana/Indianapolis:20241003T000000
DTSTAMP:20260419T094736
CREATED:20240430T155426Z
LAST-MODIFIED:20240430T155426Z
UID:10003186-1727740800-1727913600@www.horizonconvention.com
SUMMARY:Conference for Specialty Caseload Counselors
DESCRIPTION:
URL:https://www.horizonconvention.com/event/conference-for-specialty-caseload-counselors/
END:VEVENT
BEGIN:VEVENT
DTSTART;TZID=America/Indiana/Indianapolis:20240928T000000
DTEND;TZID=America/Indiana/Indianapolis:20240928T000000
DTSTAMP:20260419T094736
CREATED:20240430T155658Z
LAST-MODIFIED:20240430T155658Z
UID:10003193-1727481600-1727481600@www.horizonconvention.com
SUMMARY:Chamber Legacy Gala
DESCRIPTION:
URL:https://www.horizonconvention.com/event/chamber-legacy-gala-7/
END:VEVENT
BEGIN:VEVENT
DTSTART;TZID=America/Indiana/Indianapolis:20240926T000000
DTEND;TZID=America/Indiana/Indianapolis:20240926T000000
DTSTAMP:20260419T094736
CREATED:20240430T155658Z
LAST-MODIFIED:20240430T155658Z
UID:10003195-1727308800-1727308800@www.horizonconvention.com
SUMMARY:First Choice for Women Banquet 2024
DESCRIPTION:
URL:https://www.horizonconvention.com/event/first-choice-for-women-banquet-2024/
END:VEVENT
BEGIN:VEVENT
DTSTART;TZID=America/Indiana/Indianapolis:20240917T000000
DTEND;TZID=America/Indiana/Indianapolis:20240919T000000
DTSTAMP:20260419T094736
CREATED:20240430T155357Z
LAST-MODIFIED:20240430T155357Z
UID:10002957-1726531200-1726704000@www.horizonconvention.com
SUMMARY:4-H State Youth Staff Conference
DESCRIPTION:
URL:https://www.horizonconvention.com/event/4-h-state-youth-staff-conference/
END:VEVENT
BEGIN:VEVENT
DTSTART;TZID=America/Indiana/Indianapolis:20240912T000000
DTEND;TZID=America/Indiana/Indianapolis:20240912T000000
DTSTAMP:20260419T094736
CREATED:20240430T155411Z
LAST-MODIFIED:20240430T155411Z
UID:10002961-1726099200-1726099200@www.horizonconvention.com
SUMMARY:Christian Ministries of Delaware County
DESCRIPTION:
URL:https://www.horizonconvention.com/event/christian-ministries-of-delaware-county-2/
END:VEVENT
BEGIN:VEVENT
DTSTART;TZID=America/Indiana/Indianapolis:20240910T000000
DTEND;TZID=America/Indiana/Indianapolis:20240912T000000
DTSTAMP:20260419T094736
CREATED:20240430T155357Z
LAST-MODIFIED:20240430T155357Z
UID:10002956-1725926400-1726099200@www.horizonconvention.com
SUMMARY:Four Star Veterinary Service 2024  Pork Industry Conference
DESCRIPTION:
URL:https://www.horizonconvention.com/event/four-star-veterinary-service-2024-pork-industry-conference/
END:VEVENT
BEGIN:VEVENT
DTSTART;TZID=America/Indiana/Indianapolis:20240829T000000
DTEND;TZID=America/Indiana/Indianapolis:20240829T000000
DTSTAMP:20260419T094736
CREATED:20240430T155714Z
LAST-MODIFIED:20240430T155714Z
UID:10003201-1724889600-1724889600@www.horizonconvention.com
SUMMARY:ICLEF - The Ethics Triangle
DESCRIPTION:
URL:https://www.horizonconvention.com/event/iclef-the-ethics-triangle/
END:VEVENT
BEGIN:VEVENT
DTSTART;TZID=America/Indiana/Indianapolis:20240828T000000
DTEND;TZID=America/Indiana/Indianapolis:20240828T000000
DTSTAMP:20260419T094736
CREATED:20240430T155729Z
LAST-MODIFIED:20240430T155729Z
UID:10003202-1724803200-1724803200@www.horizonconvention.com
SUMMARY:Anthem BCBS
DESCRIPTION:
URL:https://www.horizonconvention.com/event/anthem-bcbs/
END:VEVENT
BEGIN:VEVENT
DTSTART;TZID=America/Indiana/Indianapolis:20240819T000000
DTEND;TZID=America/Indiana/Indianapolis:20240822T000000
DTSTAMP:20260419T094736
CREATED:20240430T155357Z
LAST-MODIFIED:20240430T155357Z
UID:10002958-1724025600-1724284800@www.horizonconvention.com
SUMMARY:2024 Annual Street Commissioners Convention
DESCRIPTION:
URL:https://www.horizonconvention.com/event/2024-annual-street-commissioners-convention/
END:VEVENT
BEGIN:VEVENT
DTSTART;TZID=America/Indiana/Indianapolis:20240817T000000
DTEND;TZID=America/Indiana/Indianapolis:20240817T000000
DTSTAMP:20260419T094736
CREATED:20240430T155341Z
LAST-MODIFIED:20240430T155341Z
UID:10003181-1723852800-1723852800@www.horizonconvention.com
SUMMARY:AMA Banquet
DESCRIPTION:
URL:https://www.horizonconvention.com/event/ama-banquet/
END:VEVENT
BEGIN:VEVENT
DTSTART;TZID=America/Indiana/Indianapolis:20240807T000000
DTEND;TZID=America/Indiana/Indianapolis:20240807T000000
DTSTAMP:20260419T094736
CREATED:20240430T155341Z
LAST-MODIFIED:20240430T155341Z
UID:10002953-1722988800-1722988800@www.horizonconvention.com
SUMMARY:Muncie On The Move
DESCRIPTION:
URL:https://www.horizonconvention.com/event/muncie-on-the-move-29/
END:VEVENT
BEGIN:VEVENT
DTSTART;TZID=America/Indiana/Indianapolis:20240802T000000
DTEND;TZID=America/Indiana/Indianapolis:20240803T000000
DTSTAMP:20260419T094736
CREATED:20240430T155256Z
LAST-MODIFIED:20240430T155256Z
UID:10003171-1722556800-1722643200@www.horizonconvention.com
SUMMARY:2024 NPC Premier Muscle Championships
DESCRIPTION:
URL:https://www.horizonconvention.com/event/2024-npc-premier-muscle-championships/
END:VEVENT
BEGIN:VEVENT
DTSTART;TZID=America/Indiana/Indianapolis:20240802T000000
DTEND;TZID=America/Indiana/Indianapolis:20240802T000000
DTSTAMP:20260419T094736
CREATED:20240430T155713Z
LAST-MODIFIED:20240430T155713Z
UID:10003198-1722556800-1722556800@www.horizonconvention.com
SUMMARY:NSRCA Awards Banquet
DESCRIPTION:
URL:https://www.horizonconvention.com/event/nsrca-awards-banquet/
END:VEVENT
BEGIN:VEVENT
DTSTART;TZID=America/Indiana/Indianapolis:20240719T000000
DTEND;TZID=America/Indiana/Indianapolis:20240722T000000
DTSTAMP:20260419T094736
CREATED:20240430T153844Z
LAST-MODIFIED:20240430T155457Z
UID:10003156-1721347200-1721606400@www.horizonconvention.com
SUMMARY:2024 USAMA World Championships
DESCRIPTION:
URL:https://www.horizonconvention.com/event/2024-usama-world-championships/
END:VEVENT
END:VCALENDAR